View In:
ArcGIS JavaScript
ArcGIS Online Map Viewer
ArcGIS Earth
Service Description: ORTO_CASA_DO_SAMBA_20241014_tif
Name: ORTO_CASA_DO_SAMBA_20241014_tif
Description:
Single Fused Map Cache: false
Extent:
XMin: 569344.7346000001
YMin: 8568689.8426
XMax: 569432.0745999999
YMax: 8568753.7931
Spatial Reference: 0
(0)
LatestVCSWkid(0)
Initial Extent:
XMin: 569344.7346000001
YMin: 8568689.8426
XMax: 569432.0745999999
YMax: 8568753.7931
Spatial Reference: 0
(0)
LatestVCSWkid(0)
Full Extent:
XMin: 569344.7346000001
YMin: 8568689.8426
XMax: 569432.0745999999
YMax: 8568753.7931
Spatial Reference: 0
(0)
LatestVCSWkid(0)
Pixel Size X: 0.029972546328020242
Pixel Size Y: 0.02998148148160723
Band Count: 4
Pixel Type: U8
RasterFunction Infos: {"rasterFunctionInfos": [{
"name": "None",
"description": "",
"help": ""
}]}
Mensuration Capabilities: Basic
Inspection Capabilities:
Has Histograms: true
Has Colormap: false
Has Multi Dimensions : false
Rendering Rule:
Min Scale: 0
Max Scale: 0
Copyright Text:
Service Data Type: esriImageServiceDataTypeGeneric
Min Values: 0, 0, 0, 0
Max Values: 255, 255, 255, 255
Mean Values: 163.01485111082, 162.15739204273, 143.20620130569, 242.74051163837
Standard Deviation Values: 75.530234146233, 70.03395359867, 78.603554875284, 54.551580693001
Object ID Field:
Fields:
None
Default Mosaic Method: Center
Allowed Mosaic Methods:
SortField:
SortValue: null
Mosaic Operator: First
Default Compression Quality: 75
Default Resampling Method: Bilinear
Max Record Count: null
Max Image Height: 4100
Max Image Width: 15000
Max Download Image Count: null
Max Mosaic Image Count: null
Allow Raster Function: true
Allow Copy: true
Allow Analysis: true
Allow Compute TiePoints: false
Supports Statistics: false
Supports Advanced Queries: false
Use StandardizedQueries: true
Raster Type Infos:
Name: Raster Dataset
Description: Supports all ArcGIS Raster Datasets
Help:
Has Raster Attribute Table: false
Edit Fields Info: null
Ownership Based AccessControl For Rasters: null
Child Resources:
Info
Histograms
Statistics
Key Properties
Legend
Raster Function Infos
Supported Operations:
Export Image
Identify
Measure
Compute Histograms
Compute Statistics Histograms
Get Samples
Compute Class Statistics
Query Boundary
Compute Pixel Location
Compute Angles
Validate
Project