View In:
ArcGIS JavaScript
ArcGIS Online Map Viewer
ArcGIS Earth
Service Description: ORTO_CASA_DO_SAMBA_aplicacao_tif
Name: ORTO_CASA_DO_SAMBA_aplicacao_tif
Description:
Single Fused Map Cache: false
Extent:
XMin: 569301.2302393139
YMin: 8568644.62205894
XMax: 569480.6180980918
YMax: 8568779.083577864
Spatial Reference: 31984
(31984)
LatestVCSWkid(0)
Initial Extent:
XMin: 569301.2302393139
YMin: 8568644.62205894
XMax: 569480.6180980918
YMax: 8568779.083577864
Spatial Reference: 31984
(31984)
LatestVCSWkid(0)
Full Extent:
XMin: 569301.2302393139
YMin: 8568644.62205894
XMax: 569480.6180980918
YMax: 8568779.083577864
Spatial Reference: 31984
(31984)
LatestVCSWkid(0)
Pixel Size X: 0.019049363786544447
Pixel Size Y: 0.019050937790405686
Band Count: 3
Pixel Type: U8
RasterFunction Infos: {"rasterFunctionInfos": [{
"name": "None",
"description": "",
"help": ""
}]}
Mensuration Capabilities:
Inspection Capabilities:
Has Histograms: false
Has Colormap: false
Has Multi Dimensions : false
Rendering Rule:
Min Scale: 0
Max Scale: 0
Copyright Text:
Service Data Type: esriImageServiceDataTypeRGB
Min Values: N/A
Max Values: N/A
Mean Values: N/A
Standard Deviation Values: N/A
Object ID Field:
Fields:
None
Default Mosaic Method: Center
Allowed Mosaic Methods:
SortField:
SortValue: null
Mosaic Operator: First
Default Compression Quality: 75
Default Resampling Method: Bilinear
Max Record Count: null
Max Image Height: 4100
Max Image Width: 15000
Max Download Image Count: null
Max Mosaic Image Count: null
Allow Raster Function: true
Allow Copy: true
Allow Analysis: true
Allow Compute TiePoints: false
Supports Statistics: false
Supports Advanced Queries: false
Use StandardizedQueries: true
Raster Type Infos:
Name: Raster Dataset
Description: Supports all ArcGIS Raster Datasets
Help:
Has Raster Attribute Table: false
Edit Fields Info: null
Ownership Based AccessControl For Rasters: null
Child Resources:
Info
Statistics
Key Properties
Legend
Raster Function Infos
Supported Operations:
Export Image
Identify
Compute Histograms
Compute Statistics Histograms
Get Samples
Compute Class Statistics
Query Boundary
Compute Pixel Location
Compute Angles
Validate
Project