View In:
ArcGIS JavaScript
ArcGIS Online Map Viewer
ArcGIS Earth
Service Description: PROJETO_PITUACU/OrtomosaicoDezembro24
Name: PROJETO_PITUACU/OrtomosaicoDezembro24
Description:
Single Fused Map Cache: false
Extent:
XMin: 563329.039972577
YMin: 8565953.60701396
XMax: 564141.4024307983
YMax: 8566569.310621923
Spatial Reference: 32724
(32724)
VCSWkid(5773)
LatestVCSWkid(5773)
Initial Extent:
XMin: 563329.039972577
YMin: 8565953.60701396
XMax: 564141.4024307983
YMax: 8566569.310621923
Spatial Reference: 32724
(32724)
VCSWkid(5773)
LatestVCSWkid(5773)
Full Extent:
XMin: 563329.039972577
YMin: 8565953.60701396
XMax: 564141.4024307983
YMax: 8566569.310621923
Spatial Reference: 32724
(32724)
VCSWkid(5773)
LatestVCSWkid(5773)
Pixel Size X: 0.030627449035638105
Pixel Size Y: 0.030627449035636377
Band Count: 3
Pixel Type: U16
RasterFunction Infos: {"rasterFunctionInfos": [{
"name": "None",
"description": "",
"help": ""
}]}
Mensuration Capabilities: Basic
Inspection Capabilities:
Has Histograms: true
Has Colormap: false
Has Multi Dimensions : false
Rendering Rule:
Min Scale: 0
Max Scale: 0
Copyright Text:
Service Data Type: esriImageServiceDataTypeGeneric
Min Values: 1, 1, 1
Max Values: 254, 254, 254
Mean Values: 151.02472280978, 145.40987265979, 120.49765211975
Standard Deviation Values: 58.774561749845, 50.311592867784, 59.914979789443
Object ID Field:
Fields:
None
Default Mosaic Method: Center
Allowed Mosaic Methods:
SortField:
SortValue: null
Mosaic Operator: First
Default Compression Quality: 75
Default Resampling Method: Bilinear
Max Record Count: null
Max Image Height: 4100
Max Image Width: 15000
Max Download Image Count: null
Max Mosaic Image Count: null
Allow Raster Function: true
Allow Copy: true
Allow Analysis: true
Allow Compute TiePoints: false
Supports Statistics: false
Supports Advanced Queries: false
Use StandardizedQueries: true
Raster Type Infos:
Name: Raster Dataset
Description: Supports all ArcGIS Raster Datasets
Help:
Has Raster Attribute Table: false
Edit Fields Info: null
Ownership Based AccessControl For Rasters: null
Child Resources:
Info
Histograms
Statistics
Key Properties
Legend
Raster Function Infos
Supported Operations:
Export Image
Identify
Measure
Compute Histograms
Compute Statistics Histograms
Get Samples
Compute Class Statistics
Query Boundary
Compute Pixel Location
Compute Angles
Validate
Project