View In:
ArcGIS JavaScript
ArcGIS Online Map Viewer
ArcGIS Earth
Service Description: SECAR/ORTO_CRUZ_DAS_ALMAS_220809_UFRB_tif
Name: SECAR/ORTO_CRUZ_DAS_ALMAS_220809_UFRB_tif
Description:
Single Fused Map Cache: false
Extent:
XMin: 489028.5860000173
YMin: 8596483.284955375
XMax: 493675.8860000173
YMax: 8601959.484955374
Spatial Reference: 0
(0)
LatestVCSWkid(0)
Initial Extent:
XMin: 489028.5860000173
YMin: 8596483.284955375
XMax: 493675.8860000173
YMax: 8601959.484955374
Spatial Reference: 0
(0)
LatestVCSWkid(0)
Full Extent:
XMin: 489028.5860000173
YMin: 8596483.284955375
XMax: 493675.8860000173
YMax: 8601959.484955374
Spatial Reference: 0
(0)
LatestVCSWkid(0)
Pixel Size X: 0.09999999999999976
Pixel Size Y: 0.09999999999998639
Band Count: 4
Pixel Type: U8
RasterFunction Infos: {"rasterFunctionInfos": [{
"name": "None",
"description": "",
"help": ""
}]}
Mensuration Capabilities: Basic
Inspection Capabilities:
Has Histograms: true
Has Colormap: false
Has Multi Dimensions : false
Rendering Rule:
Min Scale: 0
Max Scale: 0
Copyright Text:
Service Data Type: esriImageServiceDataTypeGeneric
Min Values: 0, 0, 0, 0
Max Values: 255, 255, 255, 255
Mean Values: 179.49337215374, 192.229654955, 167.10437786626, 138.16395400153
Standard Deviation Values: 77.317135273904, 65.839369004981, 85.147905423986, 127.05325690997
Object ID Field:
Fields:
None
Default Mosaic Method: Center
Allowed Mosaic Methods:
SortField:
SortValue: null
Mosaic Operator: First
Default Compression Quality: 75
Default Resampling Method: Bilinear
Max Record Count: null
Max Image Height: 4100
Max Image Width: 15000
Max Download Image Count: null
Max Mosaic Image Count: null
Allow Raster Function: true
Allow Copy: true
Allow Analysis: true
Allow Compute TiePoints: false
Supports Statistics: false
Supports Advanced Queries: false
Use StandardizedQueries: true
Raster Type Infos:
Name: Raster Dataset
Description: Supports all ArcGIS Raster Datasets
Help:
Has Raster Attribute Table: false
Edit Fields Info: null
Ownership Based AccessControl For Rasters: null
Child Resources:
Info
Histograms
Statistics
Key Properties
Legend
Raster Function Infos
Supported Operations:
Export Image
Identify
Measure
Compute Histograms
Compute Statistics Histograms
Get Samples
Compute Class Statistics
Query Boundary
Compute Pixel Location
Compute Angles
Validate
Project